Felt | Verdi |
AlreadyApplied | True |
Aperture | 16.0 |
ApertureValue | 16.0 |
ApproximateFocusDistance | 6.24 |
AutoLateralCA | 0 |
BitsPerSample | 8 |
Blacks2012 | 0 |
BlueHue | 0 |
BlueSaturation | 0 |
CameraProfile | Embedded |
CircGradBasedCorrActive | true |
CircGradBasedCorrAmount | 1.000000 |
CircGradBasedCorrBrightness | 0.000000 |
CircGradBasedCorrClarity2012 (4) | 0.069770 |
CircGradBasedCorrClarity2012 (7) | 0.000000 |
CircGradBasedCorrClarity2012 | 0.131780 |
CircGradBasedCorrContrast2012 | 0.000000 |
CircGradBasedCorrCorrectionRangeMaskColorAmount | 0.500000 |
CircGradBasedCorrCorrectionRangeMaskDepthFeather | 0.500000 |
CircGradBasedCorrCorrectionRangeMaskDepthMax | 1.000000 |
CircGradBasedCorrCorrectionRangeMaskDepthMin | 0.000000 |
CircGradBasedCorrCorrectionRangeMaskLumFeather | 0.500000 |
CircGradBasedCorrCorrectionRangeMaskLumMax | 1.000000 |
CircGradBasedCorrCorrectionRangeMaskLumMin | 0.000000 |
CircGradBasedCorrCorrectionRangeMaskType | 0 |
CircGradBasedCorrCorrectionRangeMaskVersion | +2 |
CircGradBasedCorrDefringe | 0.000000 |
CircGradBasedCorrExposure2012 (3) | 0.007750 |
CircGradBasedCorrExposure2012 (4) | 0.069750 |
CircGradBasedCorrExposure2012 | 0.000000 |
CircGradBasedCorrHighlights2012 (3) | 0.000000 |
CircGradBasedCorrHighlights2012 (5) | 0.152170 |
CircGradBasedCorrHighlights2012 (6) | 0.282610 |
CircGradBasedCorrHighlights2012 (7) | 0.108700 |
CircGradBasedCorrHighlights2012 | 0.100780 |
CircGradBasedCorrHue | 0.000000 |
CircGradBasedCorrLocalBlacks2012 (1) | 0.065220 |
CircGradBasedCorrLocalBlacks2012 (4) | 0.000000 |
CircGradBasedCorrLocalBlacks2012 | 0.021740 |
CircGradBasedCorrLocalDehaze | 0.025970 |
CircGradBasedCorrLocalTexture | 0.000000 |
CircGradBasedCorrLocalWhites2012 (3) | 0.086960 |
CircGradBasedCorrLocalWhites2012 (9) | 0.596900 |
CircGradBasedCorrLocalWhites2012 | 0.000000 |
CircGradBasedCorrLuminanceNoise | 0.000000 |
CircGradBasedCorrMaskAngle (3) | 0.000000 |
CircGradBasedCorrMaskAngle (4) | 0.510699 |
CircGradBasedCorrMaskAngle (5) | -3.870690 |
CircGradBasedCorrMaskAngle (6) | 2.724090 |
CircGradBasedCorrMaskAngle (8) | -3.387950 |
CircGradBasedCorrMaskAngle (9) | 0.632946 |
CircGradBasedCorrMaskAngle | 2.949980 |
CircGradBasedCorrMaskBottom (1) | 0.997085 |
CircGradBasedCorrMaskBottom (2) | 0.625364 |
CircGradBasedCorrMaskBottom (3) | 0.432945 |
CircGradBasedCorrMaskBottom (4) | 0.371928 |
CircGradBasedCorrMaskBottom (5) | 0.180452 |
CircGradBasedCorrMaskBottom (6) | 0.222475 |
CircGradBasedCorrMaskBottom (7) | 0.134190 |
CircGradBasedCorrMaskBottom (8) | 0.125785 |
CircGradBasedCorrMaskBottom (9) | 0.160067 |
CircGradBasedCorrMaskBottom | 1.126670 |
CircGradBasedCorrMaskFeather | +50 |
CircGradBasedCorrMaskFlipped | true |
CircGradBasedCorrMaskLeft (1) | 0.051118 |
CircGradBasedCorrMaskLeft (2) | 0.159744 |
CircGradBasedCorrMaskLeft (3) | 0.962726 |
CircGradBasedCorrMaskLeft (4) | -0.027450 |
CircGradBasedCorrMaskLeft (5) | 0.528759 |
CircGradBasedCorrMaskLeft (6) | -0.088954 |
CircGradBasedCorrMaskLeft (7) | 0.886616 |
CircGradBasedCorrMaskLeft (8) | 0.580064 |
CircGradBasedCorrMaskLeft (9) | 0.079920 |
CircGradBasedCorrMaskLeft | -0.480167 |
CircGradBasedCorrMaskMidpoint | +50 |
CircGradBasedCorrMaskRight (1) | 0.198083 |
CircGradBasedCorrMaskRight (2) | 0.215122 |
CircGradBasedCorrMaskRight (3) | 1.005330 |
CircGradBasedCorrMaskRight (4) | 1.135720 |
CircGradBasedCorrMaskRight (5) | 0.765359 |
CircGradBasedCorrMaskRight (6) | 0.256047 |
CircGradBasedCorrMaskRight (7) | 1.005970 |
CircGradBasedCorrMaskRight (8) | 0.932298 |
CircGradBasedCorrMaskRight (9) | 0.569697 |
CircGradBasedCorrMaskRight | 1.266150 |
CircGradBasedCorrMaskRoundness | 0 |
CircGradBasedCorrMaskTop (1) | 0.804665 |
CircGradBasedCorrMaskTop (2) | 0.389213 |
CircGradBasedCorrMaskTop (3) | 0.272595 |
CircGradBasedCorrMaskTop (4) | 0.246509 |
CircGradBasedCorrMaskTop (5) | 0.164938 |
CircGradBasedCorrMaskTop (6) | 0.129916 |
CircGradBasedCorrMaskTop (7) | 0.080513 |
CircGradBasedCorrMaskTop (8) | 0.116921 |
CircGradBasedCorrMaskTop (9) | -0.001375 |
CircGradBasedCorrMaskTop | 0.270868 |
CircGradBasedCorrMaskValue | 1.000000 |
CircGradBasedCorrMaskVersion | +2 |
CircGradBasedCorrMaskWhat | Mask/CircularGradient |
CircGradBasedCorrMoire | 0.000000 |
CircGradBasedCorrSaturation (13) | 0.086960 |
CircGradBasedCorrSaturation (17) | 0.356320 |
CircGradBasedCorrSaturation (19) | 0.271320 |
CircGradBasedCorrSaturation (7) | 0.021740 |
CircGradBasedCorrSaturation | 0.000000 |
CircGradBasedCorrShadows2012 | 0.000000 |
CircGradBasedCorrSharpness | 0.000000 |
CircGradBasedCorrTemperature | 0.000000 |
CircGradBasedCorrTint | 0.000000 |
CircGradBasedCorrWhat | Correction |
CircleOfConfusion | 0.006 mm |
Clarity2012 | +10 |
ColorComponents | 3 |
ColorNoiseReduction | 0 |
ColorSpace | sRGB |
ColorTransform | YCbCr |
Contrast2012 | +2 |
ConvertToGrayscale | False |
CreateDate (1) | 2019:11:03 15:59:47.03+01:00 |
CreateDate | 2019:11:03 15:59:47 |
CreatorTool | Adobe Photoshop Lightroom Classic 9.4 (Windows) |
CropAngle | 0 |
CropBottom | 1 |
CropConstrainToWarp | 0 |
CropLeft | 0 |
CropRight | 0.98977 |
CropTop | 0 |
DateCreated (1) | 2019:11:03 |
DateCreated | 2019:11:03 15:59:47.03+01:00 |
DateTimeOriginal | 2019:11:03 15:59:47 |
DefringeGreenAmount | 0 |
DefringeGreenHueHi | 60 |
DefringeGreenHueLo | 40 |
DefringePurpleAmount | 0 |
DefringePurpleHueHi | 70 |
DefringePurpleHueLo | 30 |
Dehaze | 0 |
DistortionCorrectionAlreadyApplied | True |
DOF | 6.60 m (4.36 - 10.96 m) |
Exposure2012 | -0.43 |
ExposureCompensation | 0 |
ExposureMode | Manual |
ExposureProgram | Manual |
ExposureTime | 2.5 |
Firmware | 1.0.0 |
Flash | No Flash |
FlashCompensation | 0 |
FNumber | 16.0 |
FocalLength | 38.0 mm |
FocalLength35efl | 38.0 mm (35 mm equivalent: 182.2 mm) |
Format | image/jpeg |
FOV | 11.3 deg |
GradientBasedCorrActive | true |
GradientBasedCorrAmount | 1.000000 |
GradientBasedCorrBrightness | 0.000000 |
GradientBasedCorrClarity2012 | 0.000000 |
GradientBasedCorrContrast2012 | 0.000000 |
GradientBasedCorrCorrectionRangeMaskColorAmount | 0.500000 |
GradientBasedCorrCorrectionRangeMaskDepthFeather | 0.500000 |
GradientBasedCorrCorrectionRangeMaskDepthMax | 1.000000 |
GradientBasedCorrCorrectionRangeMaskDepthMin | 0.000000 |
GradientBasedCorrCorrectionRangeMaskLumFeather | 0.500000 |
GradientBasedCorrCorrectionRangeMaskLumMax | 1.000000 |
GradientBasedCorrCorrectionRangeMaskLumMin | 0.000000 |
GradientBasedCorrCorrectionRangeMaskType | 0 |
GradientBasedCorrCorrectionRangeMaskVersion | +2 |
GradientBasedCorrDefringe | 0.000000 |
GradientBasedCorrExposure2012 | 0.100750 |
GradientBasedCorrHighlights2012 | 0.000000 |
GradientBasedCorrHue | 0.000000 |
GradientBasedCorrLocalBlacks2012 | 0.000000 |
GradientBasedCorrLocalDehaze | 0.025970 |
GradientBasedCorrLocalTexture | 0.000000 |
GradientBasedCorrLocalWhites2012 | 0.000000 |
GradientBasedCorrLuminanceNoise | 0.000000 |
GradientBasedCorrMaskFullX | 0.992344 |
GradientBasedCorrMaskFullY | 0.991192 |
GradientBasedCorrMaskValue | 1.000000 |
GradientBasedCorrMaskWhat | Mask/Gradient |
GradientBasedCorrMaskZeroX | 0.895813 |
GradientBasedCorrMaskZeroY | 0.886083 |
GradientBasedCorrMoire | 0.000000 |
GradientBasedCorrSaturation (1) | 0.147290 |
GradientBasedCorrSaturation | 0.000000 |
GradientBasedCorrShadows2012 | 0.000000 |
GradientBasedCorrSharpness | 0.000000 |
GradientBasedCorrTemperature | 0.000000 |
GradientBasedCorrTint | 0.000000 |
GradientBasedCorrWhat | Correction |
GrainAmount | 0 |
GreenHue | 0 |
GreenSaturation | 0 |
HasCrop | True |
HasSettings | True |
HierarchicalSubject | Umbukta |
Highlights2012 | +17 |
HueAdjustmentAqua | 0 |
HueAdjustmentBlue | 0 |
HueAdjustmentGreen | 0 |
HueAdjustmentMagenta | 0 |
HueAdjustmentOrange | 0 |
HueAdjustmentPurple | 0 |
HueAdjustmentRed | 0 |
HueAdjustmentYellow | 0 |
HyperfocalDistance | 14.41 m |
ImageHeight | 1000 |
ImageNumber | 0 |
ImageSize | 1355x1000 |
ImageWidth | 1355 |
IncrementalTemperature | +15 |
IncrementalTint | 0 |
ISO | 100 |
Keywords | Umbukta |
LateralChromaticAberrationCorrectionAlreadyApplied | True |
Lens | 24.0-70.0 mm |
LensID (1) | 137 |
LensID | Sigma 24-70mm f/2.8 IF EX DG HSM or Tamron SP 24-70mm f/2.8 Di VC USD |
LensInfo | 24-70mm f/? |
LensManualDistortionAmount | 0 |
LensModel | 24.0-70.0 mm |
LensProfileEnable | 0 |
LensProfileSetup | LensDefaults |
LensSerialNumber | 0000000000 |
LightValue | 6.7 |
LookName | |
LuminanceAdjustmentAqua | 0 |
LuminanceAdjustmentBlue | 0 |
LuminanceAdjustmentGreen | 0 |
LuminanceAdjustmentMagenta | 0 |
LuminanceAdjustmentOrange | +2 |
LuminanceAdjustmentPurple | 0 |
LuminanceAdjustmentRed | 0 |
LuminanceAdjustmentYellow | -4 |
LuminanceSmoothing | 0 |
Make | Canon |
MaxApertureValue | 2.8 |
Megapixels | 1.4 |
MeteringMode | Center-weighted average |
Model | Canon EOS R |
ModifyDate (1) | 2020:10:22 19:07:31+02:00 |
ModifyDate | 2020:10:22 19:07:31 |
OverrideLookVignette | False |
ParametricDarks | 0 |
ParametricHighlights | 0 |
ParametricHighlightSplit | 75 |
ParametricLights | 0 |
ParametricMidtoneSplit | 50 |
ParametricShadows | 0 |
ParametricShadowSplit | 25 |
PerspectiveAspect | 0 |
PerspectiveHorizontal | 0 |
PerspectiveRotate | 0.0 |
PerspectiveScale | 100 |
PerspectiveUpright | 0 |
PerspectiveVertical | 0 |
PerspectiveX | 0.00 |
PerspectiveY | 0.00 |
PhotographicSensitivity | 100 |
PostCropVignetteAmount | 0 |
PreservedFileName | IMGL2755.CR3 |
ProcessVersion | 11.0 |
ProfileDescription | sRGB IEC61966-2.1 |
RawFileName | |
RedHue | 0 |
RedSaturation | 0 |
Saturation | 0 |
SaturationAdjustmentAqua | 0 |
SaturationAdjustmentBlue | -58 |
SaturationAdjustmentGreen | -100 |
SaturationAdjustmentMagenta | -37 |
SaturationAdjustmentOrange | +58 |
SaturationAdjustmentPurple | -87 |
SaturationAdjustmentRed | -20 |
SaturationAdjustmentYellow | +24 |
ScaleFactor35efl | 4.8 |
SceneCaptureType | Standard |
SerialNumber | 043021000707 |
Shadows2012 | +40 |
ShadowTint | 0 |
SharpenDetail | 25 |
SharpenEdgeMasking | 0 |
SharpenRadius | +1.0 |
Sharpness | 0 |
ShutterSpeed | 2.5 |
ShutterSpeedValue | 2.5 |
Software | Adobe Photoshop Lightroom Classic 9.4 (Windows) |
SplitToningBalance | 0 |
SplitToningHighlightHue | 0 |
SplitToningHighlightSaturation | 0 |
SplitToningShadowHue | 0 |
SplitToningShadowSaturation | 0 |
Subject | Umbukta |
Texture | 0 |
ToneCurve | 0, 0, 255, 255 |
ToneCurveBlue | 0, 0, 255, 255 |
ToneCurveGreen | 0, 0, 255, 255 |
ToneCurveName | Linear |
ToneCurveName2012 | Linear |
ToneCurvePV2012 | 0, 0, 255, 255 |
ToneCurvePV2012Blue | 0, 0, 255, 255 |
ToneCurvePV2012Green | 0, 0, 255, 255 |
ToneCurvePV2012Red | 0, 0, 255, 255 |
ToneCurveRed | 0, 0, 255, 255 |
ToneMapStrength | 0 |
Version | 12.4 |
Vibrance | 0 |
VignetteAmount | 0 |
VignetteCorrectionAlreadyApplied | True |
WhiteBalance (1) | Custom |
WhiteBalance | Auto |
Whites2012 | +26 |