Felt | Verdi |
AlreadyApplied | True |
Aperture | 4.0 |
ApertureValue | 4.0 |
Artist | Santiago Amengual |
AutoLateralCA | 0 |
BitsPerSample | 8 |
Blacks2012 | -25 |
BlueHue | 0 |
BlueSaturation | 0 |
BrightnessValue | 3.696875 |
By-line | Santiago Amengual |
CameraProfile | Adobe Standard |
CircleOfConfusion | 0.030 mm |
Clarity2012 | -9 |
ColorComponents | 3 |
ColorGradeBlending | 100 |
ColorGradeGlobalHue | 0 |
ColorGradeGlobalLum | 0 |
ColorGradeGlobalSat | 0 |
ColorGradeHighlightLum | 0 |
ColorGradeMidtoneHue | 0 |
ColorGradeMidtoneLum | 0 |
ColorGradeMidtoneSat | 0 |
ColorGradeShadowLum | 0 |
ColorNoiseReduction | 25 |
ColorNoiseReductionDetail | 50 |
ColorNoiseReductionSmoothness | 50 |
ColorSpace | sRGB |
ColorTemperature | 5070 |
ColorTransform | YCbCr |
CompatibleVersion | 234881024 |
Contrast | High |
Contrast2012 | +42 |
ConvertToGrayscale | False |
CreateDate | 2021:01:23 14:36:43 |
Creator | Santiago Amengual |
CreatorTool | Adobe Photoshop Lightroom Classic 11.2 (Windows) |
CropAngle | 0.260583 |
CropBottom | 0.997742 |
CropConstrainToWarp | 0 |
CropLeft | 0.155147 |
CropRight | 0.814285 |
CropTop | 0 |
CustomRendered | Normal |
DateCreated (1) | 2021:01:23 |
DateCreated | 2021:01:23 14:36:43 |
DateTimeOriginal | 2021:01:23 14:36:43 |
DefringeGreenAmount | 0 |
DefringeGreenHueHi | 60 |
DefringeGreenHueLo | 40 |
DefringePurpleAmount | 0 |
DefringePurpleHueHi | 70 |
DefringePurpleHueLo | 30 |
Dehaze | 0 |
DigitalZoomRatio | 1 |
Exposure2012 | +2.11 |
ExposureCompensation | 0 |
ExposureMode | Manual |
ExposureProgram | Manual |
ExposureTime | 1/500 |
Flash | Off, Did not fire |
FNumber | 4.0 |
FocalLength | 38.0 mm |
FocalLength35efl | 38.0 mm (35 mm equivalent: 38.0 mm) |
FocalLengthIn35mmFormat | 38 mm |
Format | image/jpeg |
FOV | 50.7 deg |
GrainAmount | 0 |
GreenHue | 0 |
GreenSaturation | 0 |
HasCrop | True |
HasSettings | True |
Highlights2012 | -100 |
HueAdjustmentAqua | 0 |
HueAdjustmentBlue | 0 |
HueAdjustmentGreen | 0 |
HueAdjustmentMagenta | 0 |
HueAdjustmentOrange | 0 |
HueAdjustmentPurple | 0 |
HueAdjustmentRed | 0 |
HueAdjustmentYellow | 0 |
HyperfocalDistance | 12.01 m |
ImageHeight | 3973 |
ImageSize | 3973x3973 |
ImageWidth | 3973 |
ISO | 640 |
Lens | FE 28-70mm F3.5-5.6 OSS |
LensDistortInfo | 1052554000/1073741824 11602356/1073741824 7430697/1073741824 2140568/1073741824 |
LensInfo | 28-70mm f/3.5-5.6 |
LensManualDistortionAmount | 0 |
LensModel | FE 28-70mm F3.5-5.6 OSS |
LensProfileDistortionScale | 100 |
LensProfileEnable | 1 |
LensProfileFilename | SONY (Sony FE 28-70mm F3.5-5.6 OSS) - RAW.lcp |
LensProfileIsEmbedded | False |
LensProfileName | Adobe (Sony FE 28-70mm F3.5-5.6 OSS) |
LensProfileSetup | LensDefaults |
LensProfileVignettingScale | 100 |
LightSource | Unknown |
LightValue | 10.3 |
LuminanceAdjustmentAqua | 0 |
LuminanceAdjustmentBlue | 0 |
LuminanceAdjustmentGreen | 0 |
LuminanceAdjustmentMagenta | 0 |
LuminanceAdjustmentOrange | 0 |
LuminanceAdjustmentPurple | 0 |
LuminanceAdjustmentRed | 0 |
LuminanceAdjustmentYellow | 0 |
LuminanceNoiseReductionContrast | 0 |
LuminanceNoiseReductionDetail | 50 |
LuminanceSmoothing | 16 |
Make | SONY |
MaxApertureValue | 4.0 |
Megapixels | 15.8 |
MeteringMode | Center-weighted average |
Model | ILCE-7M2 |
ModifyDate (1) | 2022:02:24 11:28:20+01:00 |
ModifyDate | 2022:02:24 11:28:20 |
OverrideLookVignette | False |
ParametricDarks | 0 |
ParametricHighlights | 0 |
ParametricHighlightSplit | 75 |
ParametricLights | 0 |
ParametricMidtoneSplit | 50 |
ParametricShadows | 0 |
ParametricShadowSplit | 25 |
PerspectiveAspect | 0 |
PerspectiveHorizontal | 0 |
PerspectiveRotate | 0.0 |
PerspectiveScale | 100 |
PerspectiveUpright | 0 |
PerspectiveVertical | 0 |
PerspectiveX | 0.00 |
PerspectiveY | 0.00 |
PostCropVignetteAmount | -2 |
PostCropVignetteFeather | 50 |
PostCropVignetteHighlightContrast | 0 |
PostCropVignetteMidpoint | 50 |
PostCropVignetteRoundness | 0 |
PostCropVignetteStyle | 1 |
PreservedFileName | _SAM1624.ARW |
ProcessVersion | 11.0 |
ProfileDescription | sRGB IEC61966-2.1 |
RecommendedExposureIndex | 640 |
RedHue | 0 |
RedSaturation | 0 |
Saturation (1) | 0 |
Saturation | Low |
SaturationAdjustmentAqua | 0 |
SaturationAdjustmentBlue | 0 |
SaturationAdjustmentGreen | 0 |
SaturationAdjustmentMagenta | 0 |
SaturationAdjustmentOrange | 0 |
SaturationAdjustmentPurple | 0 |
SaturationAdjustmentRed | 0 |
SaturationAdjustmentYellow | 0 |
ScaleFactor35efl | 1.0 |
SceneCaptureType | Standard |
SceneType | Directly photographed |
SensitivityType | Recommended Exposure Index |
Shadows2012 | +100 |
ShadowTint | 0 |
SharpenDetail | 25 |
SharpenEdgeMasking | 48 |
SharpenRadius | +1.0 |
Sharpness (1) | 79 |
Sharpness | Hard |
ShutterSpeed | 1/500 |
ShutterSpeedValue | 1/500 |
Software | Adobe Photoshop Lightroom Classic 11.2 (Windows) |
SplitToningBalance | -40 |
SplitToningHighlightHue | 43 |
SplitToningHighlightSaturation | 65 |
SplitToningShadowHue | 232 |
SplitToningShadowSaturation | 34 |
Texture | 0 |
Tint | -6 |
ToneCurveName2012 | Linear |
ToneCurvePV2012 | 0, 0, 255, 255 |
ToneCurvePV2012Blue | 0, 0, 255, 255 |
ToneCurvePV2012Green | 0, 0, 255, 255 |
ToneCurvePV2012Red | 0, 0, 255, 255 |
UserComment | Sony A7 II |
Version | 14.2 |
Vibrance | 0 |
VignetteAmount | 0 |
WhiteBalance (1) | Custom |
WhiteBalance | Auto |
Whites2012 | +42 |