Felt | Verdi |
AlreadyApplied | True |
Aperture | 3.5 |
ApertureValue | 3.5 |
Artist | Christian Yri |
BitsPerSample | 8 |
BlueHue | 0 |
BlueSaturation | 0 |
Brightness | +57 |
By-line | Christian Yri |
CameraProfile | ACR 3.3 |
Caption-Abstract | ' a greater plan ' |
CFAPattern | [Green,Red][Blue,Green] |
ChromaticAberrationB | 0 |
ChromaticAberrationR | 0 |
CircleOfConfusion | 0.020 mm |
Clarity | 0 |
ColorComponents | 3 |
ColorNoiseReduction | 25 |
ColorTemperature | 5100 |
Contrast (2) | +63 |
Contrast | High |
ConvertToGrayscale | False |
Copyright | Christian Yri - Silvercorn |
CopyrightNotice | Christian Yri - Silvercorn |
CreateDate (1) | 2006:04:19 20:16:12.17+02:00 |
CreateDate | 2006:04:19 20:16:12 |
Creator | Christian Yri |
CreatorAddress | Oskar Braatensg. 4 |
CreatorCity | Oslo |
CreatorCountry | Norway |
CreatorPostalCode | 0474 |
CreatorRegion | Oslo |
CreatorTool | Adobe Photoshop Lightroom |
CreatorWorkEmail | cy@silvercorn.com |
CreatorWorkTelephone | +47 930 17 863 |
CreatorWorkURL | www.silvercorn.com |
CropAngle | -0.96334 |
CropBottom | 0.975497 |
CropHeight | 669 |
CropLeft | 0.006761 |
CropRight | 0.993239 |
CropTop | 0.024503 |
CropUnit | pixels |
CropWidth | 1000 |
CustomRendered | Normal |
DateTimeDigitized | 2006:04:19 20:16:12.17+02:00 |
DateTimeOriginal (1) | 2006:04:19 20:16:12.17+02:00 |
DateTimeOriginal | 2006:04:19 20:16:12 |
Defringe | 0 |
Description | ' a greater plan ' |
DigitalZoomRatio | 1 |
ExifImageHeight | 669 |
ExifImageWidth | 1000 |
Exposure | -0.52 |
ExposureCompensation | 0 |
ExposureMode | Manual |
ExposureProgram | Manual |
ExposureTime | 1/5000 |
FillLight | 0 |
Flash | No Flash |
FlashFired | False |
FlashFunction | False |
FlashMode | Unknown |
FlashRedEyeMode | False |
FlashReturn | No return detection |
FNumber | 3.5 |
FocalLength | 28.0 mm |
FocalLength35efl | 28.0 mm (35 mm equivalent: 42.0 mm) |
FocalLengthIn35mmFormat | 42 mm |
FOV | 46.4 deg |
GainControl | None |
GreenHue | 0 |
GreenSaturation | 0 |
HasCrop | True |
HasSettings | True |
HighlightRecovery | 49 |
HueAdjustmentAqua | 0 |
HueAdjustmentBlue | 0 |
HueAdjustmentGreen | 0 |
HueAdjustmentMagenta | 0 |
HueAdjustmentOrange | 0 |
HueAdjustmentPurple | 0 |
HueAdjustmentRed | 0 |
HueAdjustmentYellow | 0 |
HyperfocalDistance | 11.18 m |
ImageDescription | ' a greater plan ' |
ImageHeight | 669 |
ImageNumber | 968 |
ImageSize | 1000x669 |
ImageWidth | 1000 |
ISO | 100 |
Keywords | Landscape, Views |
Label | Purple |
Lens | 28.0-105.0 mm f/3.5-4.5 |
LensInfo | 28-105mm f/3.5-4.5 |
LightSource | Unknown |
LightValue | 15.9 |
LuminanceAdjustmentAqua | 0 |
LuminanceAdjustmentBlue | 0 |
LuminanceAdjustmentGreen | 0 |
LuminanceAdjustmentMagenta | 0 |
LuminanceAdjustmentOrange | 0 |
LuminanceAdjustmentPurple | 0 |
LuminanceAdjustmentRed | 0 |
LuminanceAdjustmentYellow | 0 |
LuminanceSmoothing | 0 |
Make | NIKON CORPORATION |
MaxApertureValue | 3.5 |
Megapixels | 0.669 |
MeteringMode | Multi-segment |
Model | NIKON D200 |
ModifyDate (1) | 2009:02:09 13:41:42+01:00 |
ModifyDate | 2009:02:09 13:41:42 |
ObjectName | Omnipotence |
ParametricDarks | -3 |
ParametricHighlights | 0 |
ParametricHighlightSplit | 75 |
ParametricLights | 0 |
ParametricMidtoneSplit | 50 |
ParametricShadows | -14 |
ParametricShadowSplit | 25 |
PostCropVignetteAmount | 0 |
ProfileDescription | sRGB IEC61966-2.1 |
Rating | 5 |
RedHue | 0 |
RedSaturation | 0 |
Rights | Christian Yri - Silvercorn |
Saturation (2) | 0 |
Saturation | High |
SaturationAdjustmentAqua | 0 |
SaturationAdjustmentBlue | 0 |
SaturationAdjustmentGreen | 0 |
SaturationAdjustmentMagenta | 0 |
SaturationAdjustmentOrange | 0 |
SaturationAdjustmentPurple | 0 |
SaturationAdjustmentRed | 0 |
SaturationAdjustmentYellow | 0 |
ScaleFactor35efl | 1.5 |
SceneCaptureType | Standard |
SceneType | Directly photographed |
SensingMethod | One-chip color area |
Shadows | 35 |
ShadowTint | 0 |
SharpenDetail | 25 |
SharpenEdgeMasking | 0 |
SharpenRadius | +1.0 |
Sharpness (2) | 25 |
Sharpness | Hard |
ShutterSpeed | 1/5000 |
ShutterSpeedValue | 1/5000 |
Software | Ver.1.00 |
SplitToningBalance | 0 |
SplitToningHighlightHue | 0 |
SplitToningHighlightSaturation | 0 |
SplitToningShadowHue | 0 |
SplitToningShadowSaturation | 0 |
Subject | Landscape, Views |
SubjectDistanceRange | Unknown |
Tint | -5 |
Title | Omnipotence |
ToneCurve | 0, 0, 32, 22, 64, 56, 128, 128, 192, 196, 255, 255 |
ToneCurveName | Medium Contrast |
Version | 5.2 |
Vibrance | 0 |
VignetteAmount | 0 |
WhiteBalance (2) | As Shot |
WhiteBalance | Auto |