Felt | Verdi |
AlreadyApplied | True |
Aperture | 16.0 |
ApertureValue | 16.0 |
Artist | Morten Prom |
BitsPerSample | 8 |
BlueHue | 0 |
BlueSaturation | 0 |
Brightness | +50 |
By-line | Morten Prom |
CameraProfile | ACR 4.4 |
Caption-Abstract | I know a magic dolphin, swimming above the world, in my dreams it promised me that someday I'll find my girl. |
ChromaticAberrationB | 0 |
ChromaticAberrationR | 0 |
CircleOfConfusion | 0.019 mm |
Clarity | -39 |
ColorComponents | 3 |
ColorMode | RGB |
ColorNoiseReduction | 25 |
ColorSpace (1) | Unknown (-1) |
ColorSpace | Uncalibrated |
ColorTemperature | 6163 |
Contrast | +33 |
ConvertToGrayscale | False |
Copyright | Copyright Morten Prom |
CopyrightFlag | True |
CopyrightNotice | Copyright Morten Prom |
CreateDate (1) | 2009:05:31 19:39:10+02:00 |
CreateDate | 2009:05:30 03:46:28 |
Creator | Morten Prom |
CreatorCity | Oslo |
CreatorCountry | Norway |
CreatorTool | Adobe Photoshop CS3 Windows |
CreatorWorkEmail | morten.prom@gmail.com |
CreatorWorkURL | http://www.mortenprom.com/ |
CropAngle | 0 |
CropBottom | 1 |
CropHeight | 1000 |
CropLeft | 0.100342 |
CropRight | 0.95439 |
CropTop | 0 |
CropUnit | pixels |
CropWidth | 1281 |
CustomRendered | Normal |
DateTimeDigitized | 2009:05:30 03:46:28.01+02:00 |
DateTimeOriginal (1) | 2009:05:30 03:46:28.01+02:00 |
DateTimeOriginal | 2009:05:30 03:46:28 |
Defringe | 0 |
DerivedFrom | |
Description | I know a magic dolphin, swimming above the world, in my dreams it promised me that someday I'll find my girl. |
ExifImageHeight | 1000 |
ExifImageWidth | 1281 |
Exposure | 0.00 |
ExposureCompensation | 0 |
ExposureMode | Manual |
ExposureProgram | Manual |
ExposureTime | 120 |
FillLight | 0 |
Firmware | 1.0.8 |
Flash | Off, Did not fire |
FlashCompensation | 0 |
FlashFired | False |
FlashFunction | False |
FlashMode | Off |
FlashRedEyeMode | False |
FlashReturn | No return detection |
FNumber | 16.0 |
FocalLength | 20.0 mm |
FocalLength35efl | 20.0 mm (35 mm equivalent: 32.4 mm) |
Format | image/jpeg |
FOV | 58.1 deg |
GreenHue | 0 |
GreenSaturation | 0 |
HasCrop | True |
HasSettings | True |
HierarchicalSubject | #twphch, 2009, b+w110, beach, black, blue, blue hour, candle, canon 40d, clouds, color, dark, golden, habour, landscape, light, long exposure, may, mortenprom, motion blur, nature, nd 1000x, nd 3.0, nd1000, night, norge, norway, ocean, orange, oslo, oslo fjord, red, reflection, rocks, sea, shore, sigma 10-20mm, sky, spring, stone, sunrise, water, wideangle, yellow |
HighlightRecovery | 0 |
HueAdjustmentAqua | 0 |
HueAdjustmentBlue | 0 |
HueAdjustmentGreen | 0 |
HueAdjustmentMagenta | 0 |
HueAdjustmentOrange | 0 |
HueAdjustmentPurple | 0 |
HueAdjustmentRed | 0 |
HueAdjustmentYellow | 0 |
HyperfocalDistance | 1.35 m |
ICCProfileName | Adobe RGB (1998) |
ImageDescription | I know a magic dolphin, swimming above the world, in my dreams it promised me that someday I'll find my girl. |
ImageHeight | 1000 |
ImageNumber | 0 |
ImageSize | 1281x1000 |
ImageWidth | 1281 |
ISO | 100 |
Keywords | #twphch, 2009, b+w110, beach, black, blue, blue hour, candle, canon 40d, clouds, color, dark, golden, habour, landscape, light, long exposure, may, mortenprom, motion blur, nature, nd 1000x, nd 3.0, nd1000, night, norge, norway, ocean, orange, oslo, oslo fjord, red, reflection, rocks, sea, shore, sigma 10-20mm, sky, spring, stone, sunrise, water, wideangle, yellow |
Lens | 10-20mm |
LensInfo | 10-20mm f/? |
LightValue | 1.1 |
LuminanceAdjustmentAqua | 0 |
LuminanceAdjustmentBlue | 0 |
LuminanceAdjustmentGreen | 0 |
LuminanceAdjustmentMagenta | 0 |
LuminanceAdjustmentOrange | 0 |
LuminanceAdjustmentPurple | 0 |
LuminanceAdjustmentRed | 0 |
LuminanceAdjustmentYellow | 0 |
LuminanceSmoothing | 0 |
Make | Canon |
Marked | True |
MaxApertureValue | 5.7 |
Megapixels | 1.3 |
MeteringMode | Multi-segment |
Model | Canon EOS 40D |
ModifyDate (1) | 2009:05:31 19:39:10+02:00 |
ModifyDate | 2009:05:31 19:39:10 |
ObjectName | Magic Dolphin |
Orientation | Horizontal (normal) |
ParametricDarks | 0 |
ParametricHighlights | 0 |
ParametricHighlightSplit | 75 |
ParametricLights | 0 |
ParametricMidtoneSplit | 50 |
ParametricShadows | 0 |
ParametricShadowSplit | 25 |
PostCropVignetteAmount | 0 |
ProfileDescription | Adobe RGB (1998) |
Rating | 5 |
RedHue | 0 |
RedSaturation | 0 |
Rights | Copyright Morten Prom |
Saturation | +4 |
SaturationAdjustmentAqua | 0 |
SaturationAdjustmentBlue | 0 |
SaturationAdjustmentGreen | 0 |
SaturationAdjustmentMagenta | 0 |
SaturationAdjustmentOrange | 0 |
SaturationAdjustmentPurple | 0 |
SaturationAdjustmentRed | 0 |
SaturationAdjustmentYellow | 0 |
ScaleFactor35efl | 1.6 |
SceneCaptureType | Standard |
SerialNumber | 330112890 |
Shadows | 5 |
ShadowTint | 0 |
SharpenDetail | 25 |
SharpenEdgeMasking | 0 |
SharpenRadius | +1.0 |
Sharpness | 25 |
ShutterSpeed | 120 |
ShutterSpeedValue | 120 |
Software | Adobe Photoshop CS3 Windows |
SplitToningBalance | 0 |
SplitToningHighlightHue | 0 |
SplitToningHighlightSaturation | 0 |
SplitToningShadowHue | 0 |
SplitToningShadowSaturation | 0 |
Subject | #twphch, 2009, b+w110, beach, black, blue, blue hour, candle, canon 40d, clouds, color, dark, golden, habour, landscape, light, long exposure, may, mortenprom, motion blur, nature, nd 1000x, nd 3.0, nd1000, night, norge, norway, ocean, orange, oslo, oslo fjord, red, reflection, rocks, sea, shore, sigma 10-20mm, sky, spring, stone, sunrise, water, wideangle, yellow |
Tint | -25 |
Title | Magic Dolphin |
ToneCurve | 0, 0, 32, 22, 64, 56, 128, 128, 192, 196, 255, 255 |
ToneCurveName | Medium Contrast |
URL | http://www.mortenprom.com/ |
URL_List | |
UsageTerms | http://www.mortenprom.com/ |
Version | 4.5 |
Vibrance | +19 |
VignetteAmount | +95 |
VignetteMidpoint | 0 |
WebStatement | http://www.mortenprom.com/ |
WhiteBalance (2) | Custom |
WhiteBalance | Auto |