Felt | Verdi |
AlreadyApplied | True |
Aperture | 10.0 |
ApertureValue | 10.0 |
BitsPerSample | 8 |
BlueHue | +32 |
BlueSaturation | +18 |
Brightness | +83 |
BrightnessValue | 5.75 |
CameraProfile | Adobe Standard |
Caption-Abstract | SONY DSC |
ChromaticAberrationB | 0 |
ChromaticAberrationR | 0 |
CircleOfConfusion | 0.020 mm |
Clarity | -24 |
ColorComponents | 3 |
ColorMode | RGB |
ColorNoiseReduction | 100 |
ColorSpace | Uncalibrated |
ColorTemperature | 5900 |
Contrast (2) | +40 |
Contrast | Normal |
ConvertToGrayscale | False |
CreateDate (1) | 2010:01:13 16:18:11+01:00 |
CreateDate | 2010:01:13 16:18:11 |
CreatorTool | DSLR-A350 v1.00 |
CropAngle | 0 |
CropBottom | 0.988558 |
CropLeft | 0.009132 |
CropRight | 0.969559 |
CropTop | 0.038902 |
CustomRendered | Normal |
DateTimeDigitized | 2010:01:13 16:18:11+01:00 |
DateTimeOriginal (1) | 2010:01:13 16:18:11+01:00 |
DateTimeOriginal | 2010:01:13 16:18:11 |
Defringe | 0 |
Description | SONY DSC |
ExifImageHeight | 4410 |
ExifImageWidth | 2902 |
Exposure | +1.35 |
ExposureCompensation | 0 |
ExposureMode | Manual |
ExposureProgram | Manual |
ExposureTime | 1/160 |
FillLight | 0 |
Flash | On, Fired |
FlashFired | True |
FlashFunction | False |
FlashMode | On |
FlashRedEyeMode | False |
FlashReturn | No return detection |
FNumber | 10.0 |
FocalLength | 200.0 mm |
FocalLength35efl | 200.0 mm (35 mm equivalent: 300.0 mm) |
FocalLengthIn35mmFormat | 300 mm |
Format | image/jpeg |
FOV | 6.9 deg |
GreenHue | 0 |
GreenSaturation | 0 |
HasCrop | True |
HasSettings | True |
HighlightRecovery | 100 |
HueAdjustmentAqua | +22 |
HueAdjustmentBlue | -23 |
HueAdjustmentGreen | 0 |
HueAdjustmentMagenta | 0 |
HueAdjustmentOrange | 0 |
HueAdjustmentPurple | -43 |
HueAdjustmentRed | 0 |
HueAdjustmentYellow | 0 |
HyperfocalDistance | 199.69 m |
ICCProfileName | Adobe RGB (1998) |
ImageDescription | SONY DSC |
ImageHeight | 4410 |
ImageSize | 2902x4410 |
ImageWidth | 2902 |
ISO | 800 |
LightSource | Shade |
LightValue | 11.0 |
LuminanceAdjustmentAqua | 0 |
LuminanceAdjustmentBlue | 0 |
LuminanceAdjustmentGreen | 0 |
LuminanceAdjustmentMagenta | 0 |
LuminanceAdjustmentOrange | -100 |
LuminanceAdjustmentPurple | 0 |
LuminanceAdjustmentRed | -100 |
LuminanceAdjustmentYellow | 0 |
LuminanceSmoothing | 44 |
Make | SONY |
MaxApertureValue | 4.5 |
Megapixels | 12.8 |
MeteringMode | Center-weighted average |
Model | DSLR-A350 |
ModifyDate (1) | 2010:01:16 17:48:28+01:00 |
ModifyDate | 2010:01:16 17:48:28 |
Orientation | Horizontal (normal) |
ParametricDarks | -22 |
ParametricHighlights | +64 |
ParametricHighlightSplit | 75 |
ParametricLights | -91 |
ParametricMidtoneSplit | 50 |
ParametricShadows | 0 |
ParametricShadowSplit | 25 |
PostCropVignetteAmount | -61 |
PostCropVignetteFeather | 64 |
PostCropVignetteMidpoint | 50 |
PostCropVignetteRoundness | +31 |
ProfileDescription | Adobe RGB (1998) |
Rating | 0 |
RawFileName | DSC05707.ARW |
RedHue | 0 |
RedSaturation | 0 |
Saturation (2) | -37 |
Saturation | Normal |
SaturationAdjustmentAqua | 0 |
SaturationAdjustmentBlue | +38 |
SaturationAdjustmentGreen | 0 |
SaturationAdjustmentMagenta | 0 |
SaturationAdjustmentOrange | 0 |
SaturationAdjustmentPurple | 0 |
SaturationAdjustmentRed | -4 |
SaturationAdjustmentYellow | 0 |
ScaleFactor35efl | 1.5 |
SceneCaptureType | Standard |
SceneType | Directly photographed |
Shadows | 67 |
ShadowTint | 0 |
SharpenDetail | 55 |
SharpenEdgeMasking | 100 |
SharpenRadius | +1.8 |
Sharpness (2) | 79 |
Sharpness | Normal |
ShutterSpeed | 1/160 |
ShutterSpeedValue | 1/160 |
SidecarForExtension | ARW |
Software | Adobe Photoshop CS4 Windows |
SplitToningBalance | 0 |
SplitToningHighlightHue | 138 |
SplitToningHighlightSaturation | 0 |
SplitToningShadowHue | 0 |
SplitToningShadowSaturation | 0 |
Tint | +13 |
ToneCurve | 0, 0, 32, 22, 64, 56, 128, 128, 192, 196, 255, 255 |
ToneCurveName | Medium Contrast |
URL_List | |
Version | 5.5 |
Vibrance | -15 |
VignetteAmount | -100 |
VignetteMidpoint | 21 |
WhiteBalance (2) | Custom |
WhiteBalance | Manual |