Felt | Verdi |
AlreadyApplied | True |
Aperture | 5.0 |
ApertureValue | 5.0 |
BitsPerSample | 8 |
BlueHue | 0 |
BlueSaturation | 0 |
Brightness | 0 |
By-line | Kim-Arne Larsen |
CameraProfile | Embedded |
ChromaticAberrationB | 0 |
ChromaticAberrationR | 0 |
CircleOfConfusion | 0.020 mm |
Clarity | 0 |
ColorComponents | 1 |
ColorNoiseReduction | 0 |
Contrast | 0 |
ConvertToGrayscale | True |
Copyright | Kim-Arne Larsen |
CopyrightFlag | True |
CopyrightNotice | Kim-Arne Larsen |
CreateDate | 2010:01:23 10:04:17+01:00 |
Creator | Kim-Arne Larsen |
CreatorAddress | Storvik |
CreatorCity | Storslett |
CreatorRegion | Nordreisa |
CreatorTool | Adobe Photoshop Lightroom |
DateTimeOriginal (1) | 2010:01:23 10:04:17+01:00 |
DateTimeOriginal | 2010:01:23 10:04:17 |
Defringe | 0 |
ExifImageHeight | 1614 |
ExifImageWidth | 2411 |
Exposure | 0.00 |
ExposureTime | 1/60 |
FillLight | 0 |
Flash | Auto, Fired, Return detected |
FlashFired | True |
FlashFunction | False |
FlashMode | Auto |
FlashRedEyeMode | False |
FlashReturn | Return detected |
FNumber | 5.0 |
FocalLength | 48.0 mm |
FocalLength35efl | 48.0 mm (35 mm equivalent: 72.0 mm) |
FocalLengthIn35mmFormat | 72 mm |
FOV | 28.1 deg |
GrainAmount | 0 |
GrayMixerAqua | -22 |
GrayMixerBlue | +1 |
GrayMixerGreen | -21 |
GrayMixerMagenta | +11 |
GrayMixerOrange | -6 |
GrayMixerPurple | +13 |
GrayMixerRed | +5 |
GrayMixerYellow | -12 |
GreenHue | 0 |
GreenSaturation | 0 |
HasCrop | False |
HasSettings | True |
HighlightRecovery | 0 |
HyperfocalDistance | 23.00 m |
ImageHeight | 1614 |
ImageSize | 2411x1614 |
ImageWidth | 2411 |
IncrementalTemperature | 0 |
IncrementalTint | 0 |
ISO | 200 |
LightValue | 9.6 |
Make | NIKON |
Marked | True |
Megapixels | 3.9 |
MeteringMode | Multi-segment |
Model | D90 |
ModifyDate (1) | 2010:01:29 01:00:19+01:00 |
ModifyDate | 2010:01:29 01:00:19 |
ParametricDarks | +2 |
ParametricHighlights | 0 |
ParametricHighlightSplit | 75 |
ParametricLights | +41 |
ParametricMidtoneSplit | 50 |
ParametricShadows | -71 |
ParametricShadowSplit | 25 |
PostCropVignetteAmount | 0 |
ProfileDescription | Adobe RGB (1998) |
RedHue | 0 |
RedSaturation | 0 |
RenderVersion | 5.7 |
Rights | Kim-Arne Larsen |
ScaleFactor35efl | 1.5 |
Shadows | 0 |
ShadowTint | 0 |
SharpenDetail | 25 |
SharpenEdgeMasking | 0 |
SharpenRadius | +1.0 |
Sharpness | 0 |
ShutterSpeed | 1/60 |
ShutterSpeedValue | 1/60 |
Software | Picasa 3.0 |
SplitToningBalance | 0 |
SplitToningHighlightHue | 0 |
SplitToningHighlightSaturation | 0 |
SplitToningShadowHue | 0 |
SplitToningShadowSaturation | 0 |
ToneCurve | 0, 0, 255, 255 |
ToneCurveName | Linear |
Version | 6.0 |
VignetteAmount | 0 |
WhiteBalance | As Shot |