Felt | Verdi |
AlreadyApplied | True |
Aperture | 6.3 |
ApertureValue | 6.3 |
Artist | Daniel Manne |
BitsPerSample | 8 |
BlueHue | 0 |
BlueSaturation | 0 |
Brightness | +50 |
By-line | Daniel Manne |
CameraProfile | Adobe Standard |
ChromaticAberrationB | 0 |
ChromaticAberrationR | 0 |
CircleOfConfusion | 0.019 mm |
Clarity | +29 |
ColorComponents | 3 |
ColorNoiseReduction | 25 |
ColorTemperature | 3650 |
Contrast | +39 |
ConvertToGrayscale | False |
CreateDate (1) | 2009:09:04 22:49:12.55+02:00 |
CreateDate | 2009:09:04 22:49:12 |
Creator | Daniel Manne |
CreatorTool | Adobe Photoshop Lightroom |
CropAngle | 0 |
CropBottom | 0.966292 |
CropHeight | 495 |
CropLeft | 0.024345 |
CropRight | 1 |
CropTop | 0 |
CropUnit | pixels |
CropWidth | 750 |
CustomRendered | Normal |
DateTimeDigitized | 2009:09:04 22:49:12.55+02:00 |
DateTimeOriginal (1) | 2009:09:04 22:49:12.55+02:00 |
DateTimeOriginal | 2009:09:04 22:49:12 |
Defringe | 0 |
DOF | inf (0.85 m - inf) |
ExifImageHeight | 750 |
ExifImageWidth | 495 |
Exposure | +0.10 |
ExposureCompensation | 0 |
ExposureMode | Auto |
ExposureProgram | Aperture-priority AE |
ExposureTime | 30 |
FillLight | 0 |
Firmware | 1.1.0 |
Flash | Off, Did not fire |
FlashCompensation | 0 |
FlashFired | False |
FlashFunction | False |
FlashMode | Off |
FlashRedEyeMode | False |
FlashReturn | No return detection |
FNumber | 6.3 |
FocalLength | 10.0 mm |
FocalLength35efl | 10.0 mm (35 mm equivalent: 16.2 mm) |
FOV | 96.2 deg |
GreenHue | 0 |
GreenSaturation | 0 |
HasCrop | True |
HasSettings | True |
HighlightRecovery | 25 |
HueAdjustmentAqua | 0 |
HueAdjustmentBlue | 0 |
HueAdjustmentGreen | 0 |
HueAdjustmentMagenta | 0 |
HueAdjustmentOrange | 0 |
HueAdjustmentPurple | 0 |
HueAdjustmentRed | 0 |
HueAdjustmentYellow | 0 |
HyperfocalDistance | 0.85 m |
ImageHeight | 750 |
ImageNumber | 0 |
ImageSize | 495x750 |
ImageWidth | 495 |
ISO | 200 |
Keywords | 2009, Bro, Sotra |
Lens | 10-20mm |
LensInfo | 10-20mm f/? |
LightValue | -0.6 |
LuminanceAdjustmentAqua | 0 |
LuminanceAdjustmentBlue | 0 |
LuminanceAdjustmentGreen | 0 |
LuminanceAdjustmentMagenta | 0 |
LuminanceAdjustmentOrange | 0 |
LuminanceAdjustmentPurple | 0 |
LuminanceAdjustmentRed | 0 |
LuminanceAdjustmentYellow | 0 |
LuminanceSmoothing | 0 |
Make | Canon |
MaxApertureValue | 4.0 |
Megapixels | 0.371 |
MeteringMode | Center-weighted average |
Model | Canon EOS 450D |
ModifyDate (1) | 2010:03:20 16:23:13+01:00 |
ModifyDate | 2010:03:20 16:23:13 |
OwnerName | Daniel Manne |
ParametricDarks | -4 |
ParametricHighlights | +52 |
ParametricHighlightSplit | 75 |
ParametricLights | +21 |
ParametricMidtoneSplit | 50 |
ParametricShadows | -23 |
ParametricShadowSplit | 25 |
PostCropVignetteAmount | 0 |
ProfileDescription | Adobe RGB (1998) |
Rating | 3 |
RedHue | 0 |
RedSaturation | 0 |
Saturation | -44 |
SaturationAdjustmentAqua | 0 |
SaturationAdjustmentBlue | 0 |
SaturationAdjustmentGreen | 0 |
SaturationAdjustmentMagenta | 0 |
SaturationAdjustmentOrange | 0 |
SaturationAdjustmentPurple | 0 |
SaturationAdjustmentRed | 0 |
SaturationAdjustmentYellow | 0 |
ScaleFactor35efl | 1.6 |
SceneCaptureType | Standard |
SerialNumber | 1080394285 |
Shadows | 0 |
ShadowTint | 0 |
SharpenDetail | 25 |
SharpenEdgeMasking | 0 |
SharpenRadius | +1.0 |
Sharpness | 30 |
ShutterSpeed | 30 |
ShutterSpeedValue | 30 |
SplitToningBalance | 0 |
SplitToningHighlightHue | 0 |
SplitToningHighlightSaturation | 0 |
SplitToningShadowHue | 0 |
SplitToningShadowSaturation | 0 |
Subject | 2009, Bro, Sotra |
SubjectDistance | 4294967295 m |
Tint | +3 |
ToneCurve | 0, 0, 32, 22, 64, 56, 128, 128, 192, 196, 255, 255 |
ToneCurveName | Medium Contrast |
Version | 5.6.1 |
Vibrance | 0 |
VignetteAmount | 0 |
WhiteBalance (2) | Custom |
WhiteBalance | Manual |