Felt | Verdi |
AlreadyApplied | True |
BitsPerSample | 8 |
BlueHue | 0 |
BlueSaturation | 0 |
Brightness | -7 |
CameraProfile | Embedded |
Caption-Abstract | image description |
ChromaticAberrationB | 0 |
ChromaticAberrationR | -24 |
Clarity | 0 |
ColorComponents | 3 |
ColorNoiseReduction | 0 |
Contrast | 0 |
ConvertToGrayscale | False |
CreatorTool | Adobe Photoshop Lightroom |
Defringe | 2 |
Description | image description |
ExifImageHeight (1) | 3888 |
ExifImageHeight | 700 |
ExifImageWidth (1) | 2592 |
ExifImageWidth | 467 |
Exposure | 0.00 |
FillLight | 0 |
GreenHue | 0 |
GreenSaturation | 0 |
HasCrop | False |
HasSettings | True |
HighlightRecovery | 17 |
HueAdjustmentAqua | 0 |
HueAdjustmentBlue | 0 |
HueAdjustmentGreen | 0 |
HueAdjustmentMagenta | 0 |
HueAdjustmentOrange | 0 |
HueAdjustmentPurple | 0 |
HueAdjustmentRed | 0 |
HueAdjustmentYellow | 0 |
ImageDescription | image description |
ImageHeight (1) | 3888 |
ImageHeight | 700 |
ImageSize | 467x700 |
ImageWidth (1) | 2592 |
ImageWidth | 467 |
IncrementalTemperature | 0 |
IncrementalTint | 0 |
LuminanceAdjustmentAqua | 0 |
LuminanceAdjustmentBlue | 0 |
LuminanceAdjustmentGreen | 0 |
LuminanceAdjustmentMagenta | 0 |
LuminanceAdjustmentOrange | 0 |
LuminanceAdjustmentPurple | 0 |
LuminanceAdjustmentRed | 0 |
LuminanceAdjustmentYellow | 0 |
LuminanceSmoothing | 100 |
Megapixels | 0.327 |
ModifyDate (1) | 2010:10:13 14:58:29.0+1:00 |
ModifyDate | 2010:10:15 17:31:32 |
ObjectName | devil |
Orientation | Horizontal (normal) |
PaintCorrectionActive | true |
PaintCorrectionAmount | 1.000000 |
PaintCorrectionBrightness (1) | -0.350000 |
PaintCorrectionBrightness | 0.450000 |
PaintCorrectionClarity (1) | -1.000000 |
PaintCorrectionClarity | -0.100000 |
PaintCorrectionContrast (1) | -0.775000 |
PaintCorrectionContrast | -0.625000 |
PaintCorrectionExposure (1) | 0.050000 |
PaintCorrectionExposure | -0.100000 |
PaintCorrectionHue | 50.000000 |
PaintCorrectionMaskCenterWeight | 0.000000 |
PaintCorrectionMaskFlow | 0.975000 |
PaintCorrectionMaskRadius (2) | 0.030914 |
PaintCorrectionMaskRadius (36) | 0.040058 |
PaintCorrectionMaskRadius (38) | 0.016625 |
PaintCorrectionMaskRadius | 0.007171 |
PaintCorrectionMaskValue | 0.325000 |
PaintCorrectionMaskWhat | Mask/Paint |
PaintCorrectionSaturation (1) | 0.000000 |
PaintCorrectionSaturation (2) | 1.000000 |
PaintCorrectionSaturation (3) | -0.975000 |
PaintCorrectionSaturation | 0.500000 |
PaintCorrectionSharpness (1) | -1.000000 |
PaintCorrectionSharpness | 0.475000 |
PaintCorrectionWhat | Correction |
ParametricDarks | 0 |
ParametricHighlights | -5 |
ParametricHighlightSplit | 75 |
ParametricLights | 0 |
ParametricMidtoneSplit | 50 |
ParametricShadows | 0 |
ParametricShadowSplit | 25 |
PostCropVignetteAmount | 0 |
ProfileDescription | sRGB IEC61966-2.1 |
Rating | 5 |
RedHue | 0 |
RedSaturation | 0 |
Saturation | 0 |
SaturationAdjustmentAqua | 0 |
SaturationAdjustmentBlue | 0 |
SaturationAdjustmentGreen | 0 |
SaturationAdjustmentMagenta | 0 |
SaturationAdjustmentOrange | 0 |
SaturationAdjustmentPurple | 0 |
SaturationAdjustmentRed | 0 |
SaturationAdjustmentYellow | 0 |
Shadows | 0 |
ShadowTint | 0 |
SharpenDetail | 25 |
SharpenEdgeMasking | 0 |
SharpenRadius | +1.0 |
Sharpness | 0 |
Software | ACD Systems Digital Imaging |
SplitToningBalance | 0 |
SplitToningHighlightHue | 0 |
SplitToningHighlightSaturation | 0 |
SplitToningShadowHue | 0 |
SplitToningShadowSaturation | 0 |
Title | devil |
ToneCurve | 0, 0, 255, 255 |
ToneCurveName | Linear |
Version | 5.5 |
Vibrance | 0 |
VignetteAmount | 0 |
WhiteBalance | As Shot |