Felt | Verdi |
AlreadyApplied | True |
Aperture | 5.6 |
ApertureValue | 5.6 |
ApproximateFocusDistance | 0.93 |
BitsPerSample | 8 |
BlueHue | 0 |
BlueSaturation | 0 |
Brightness | 0 |
CameraProfile | Embedded |
ChromaticAberrationB | 0 |
ChromaticAberrationR | 0 |
CircleOfConfusion | 0.019 mm |
Clarity | +10 |
ColorComponents | 3 |
ColorMode | RGB |
ColorNoiseReduction | 0 |
ColorSpace (1) | Unknown (-1) |
ColorSpace | Uncalibrated |
Contrast | +5 |
ConvertToGrayscale | False |
CopyrightFlag | False |
CreateDate (1) | 2011:10:08 03:27:52+02:00 |
CreateDate | 2011:10:06 16:13:38 |
CreatorTool | Adobe Photoshop CS3 Windows |
CustomRendered | Normal |
DateTimeDigitized | 2011:10:06 16:13:38.46+02:00 |
DateTimeOriginal (1) | 2011:10:06 16:13:38.46+02:00 |
DateTimeOriginal | 2011:10:06 16:13:38 |
Defringe | 0 |
DOF | 0.06 m (0.90 - 0.96 m) |
ExifImageHeight | 2250 |
ExifImageWidth | 1500 |
Exposure | 0.00 |
ExposureCompensation | 0 |
ExposureMode | Manual |
ExposureProgram | Manual |
ExposureTime | 1/250 |
FillLight | 0 |
Firmware | 1.0.9 |
Flash | Off, Did not fire |
FlashCompensation | 0 |
FlashFired | False |
FlashFunction | False |
FlashMode | Off |
FlashRedEyeMode | False |
FlashReturn | No return detection |
FNumber | 5.6 |
FocalLength | 55.0 mm |
FocalLength35efl | 55.0 mm (35 mm equivalent: 86.5 mm) |
Format | image/jpeg |
FOV | 23.5 deg |
GrainAmount | 0 |
GreenHue | 0 |
GreenSaturation | 0 |
HasCrop | False |
HasSettings | True |
HighlightRecovery | 0 |
HueAdjustmentAqua | 0 |
HueAdjustmentBlue | 0 |
HueAdjustmentGreen | 0 |
HueAdjustmentMagenta | 0 |
HueAdjustmentOrange | 0 |
HueAdjustmentPurple | 0 |
HueAdjustmentRed | 0 |
HueAdjustmentYellow | 0 |
HyperfocalDistance | 28.28 m |
ICCProfileName | Adobe RGB (1998) |
ImageHeight (1) | 5184 |
ImageHeight | 2250 |
ImageNumber | 0 |
ImageSize | 1500x2250 |
ImageWidth (1) | 3456 |
ImageWidth | 1500 |
IncrementalTemperature | 0 |
IncrementalTint | 0 |
ISO | 100 |
Lens | EF-S18-55mm f/3.5-5.6 IS |
LensID (1) | 48 |
LensID | Canon EF-S 18-55mm f/3.5-5.6 IS |
LensInfo | 18-55mm f/? |
LensManualDistortionAmount | 0 |
LensModel | EF-S18-55mm f/3.5-5.6 IS |
LensProfileEnable | 0 |
LensProfileSetup | LensDefaults |
LightValue | 12.9 |
LuminanceAdjustmentAqua | 0 |
LuminanceAdjustmentBlue | 0 |
LuminanceAdjustmentGreen | 0 |
LuminanceAdjustmentMagenta | 0 |
LuminanceAdjustmentOrange | 0 |
LuminanceAdjustmentPurple | 0 |
LuminanceAdjustmentRed | 0 |
LuminanceAdjustmentYellow | 0 |
LuminanceNoiseReductionContrast | 25 |
LuminanceNoiseReductionDetail | 100 |
LuminanceSmoothing | 75 |
Make | Canon |
MaxApertureValue | 5.7 |
Megapixels | 3.4 |
MeteringMode | Spot |
Model | Canon EOS 550D |
ModifyDate (1) | 2011:10:08 03:27:52+02:00 |
ModifyDate | 2011:10:08 03:27:52 |
Orientation | Horizontal (normal) |
ParametricDarks | 0 |
ParametricHighlights | 0 |
ParametricHighlightSplit | 75 |
ParametricLights | 0 |
ParametricMidtoneSplit | 50 |
ParametricShadows | 0 |
ParametricShadowSplit | 25 |
PerspectiveHorizontal | 0 |
PerspectiveRotate | 0.0 |
PerspectiveScale | 100 |
PerspectiveVertical | 0 |
PostCropVignetteAmount | 0 |
ProcessVersion | 5.7 |
ProfileDescription | Adobe RGB (1998) |
RedHue | 0 |
RedSaturation | 0 |
Saturation | 0 |
SaturationAdjustmentAqua | 0 |
SaturationAdjustmentBlue | 0 |
SaturationAdjustmentGreen | 0 |
SaturationAdjustmentMagenta | 0 |
SaturationAdjustmentOrange | 0 |
SaturationAdjustmentPurple | 0 |
SaturationAdjustmentRed | 0 |
SaturationAdjustmentYellow | 0 |
ScaleFactor35efl | 1.6 |
SceneCaptureType | Standard |
SensitivityType | Unknown |
SerialNumber | 1433947332 |
Shadows | 2 |
ShadowTint | 0 |
SharpenDetail | 25 |
SharpenEdgeMasking | 0 |
SharpenRadius | +1.0 |
Sharpness | 0 |
ShutterSpeed | 1/250 |
ShutterSpeedValue | 1/250 |
Software | Adobe Photoshop CS3 Windows |
SplitToningBalance | 0 |
SplitToningHighlightHue | 0 |
SplitToningHighlightSaturation | 0 |
SplitToningShadowHue | 0 |
SplitToningShadowSaturation | 0 |
SubjectDistance | 0.93 m |
ToneCurve | 0, 0, 255, 255 |
ToneCurveName | Linear |
URL_List | |
Version | 6.2 |
Vibrance | -5 |
VignetteAmount | 0 |
WhiteBalance (2) | As Shot |
WhiteBalance | Auto |