Felt | Verdi |
AlreadyApplied | True |
Aperture | 5.6 |
ApertureValue | 5.6 |
BitsPerSample | 8 |
BlueHue | 0 |
BlueSaturation | 0 |
Brightness | -26 |
CameraProfile | Adobe Standard |
ChromaticAberrationB | 0 |
ChromaticAberrationR | 0 |
CircleOfConfusion | 0.019 mm |
Clarity | +6 |
ColorComponents | 1 |
ColorNoiseReduction | 36 |
ColorNoiseReductionDetail | 50 |
ColorTemperature | 5500 |
Contrast | +100 |
ConvertToGrayscale | True |
CreateDate (1) | 2013:03:30 12:01:44.58+01:00 |
CreateDate | 2013:03:30 12:01:44 |
CreatorTool | Adobe Photoshop Lightroom |
CropAngle | -1.04213 |
CropBottom | 0.969118 |
CropConstrainToWarp | 0 |
CropHeight | 1654 |
CropLeft | 0.004394 |
CropRight | 0.968997 |
CropTop | 0.030882 |
CropUnit | pixels |
CropWidth | 2452 |
CustomRendered | Normal |
DateTimeDigitized | 2013:03:30 12:01:44.58+01:00 |
DateTimeOriginal (1) | 2013:03:30 12:01:44.58+01:00 |
DateTimeOriginal | 2013:03:30 12:01:44 |
Defringe | 0 |
DOF | 0.05 m (1.54 - 1.58 m) |
ExifImageHeight | 2452 |
ExifImageWidth | 1654 |
Exposure | +0.87 |
ExposureCompensation | 0 |
ExposureMode | Manual |
ExposureProgram | Manual |
ExposureTime | 1/250 |
FillLight | 23 |
Firmware | 1.2.3 |
Flash | Off, Did not fire |
FlashCompensation | 0 |
FlashFired | False |
FlashFunction | False |
FlashMode | Off |
FlashRedEyeMode | False |
FlashReturn | No return detection |
FNumber | 5.6 |
FocalLength | 100.0 mm |
FocalLength35efl | 100.0 mm (35 mm equivalent: 157.0 mm) |
FOV | 13.1 deg |
GradientBasedCorrActive | true |
GradientBasedCorrAmount | 1.000000 |
GradientBasedCorrBrightness | -0.049000 |
GradientBasedCorrClarity | -0.060000 |
GradientBasedCorrContrast | -0.073000 |
GradientBasedCorrExposure (1) | -0.512000 |
GradientBasedCorrExposure | -0.390000 |
GradientBasedCorrHue | 0.000000 |
GradientBasedCorrMaskFullX (1) | 0.271296 |
GradientBasedCorrMaskFullX | 0.648638 |
GradientBasedCorrMaskFullY (1) | 1.038370 |
GradientBasedCorrMaskFullY | 1.002820 |
GradientBasedCorrMaskValue | 1.000000 |
GradientBasedCorrMaskWhat | Mask/Gradient |
GradientBasedCorrMaskZeroX (1) | 0.267942 |
GradientBasedCorrMaskZeroX | 0.643907 |
GradientBasedCorrMaskZeroY (1) | 0.842711 |
GradientBasedCorrMaskZeroY | 0.862241 |
GradientBasedCorrSaturation (1) | -0.060000 |
GradientBasedCorrSaturation | 0.000000 |
GradientBasedCorrSharpness | 0.000000 |
GradientBasedCorrWhat | Correction |
GrainAmount | 0 |
GrayMixerAqua | -77 |
GrayMixerBlue | +9 |
GrayMixerGreen | 0 |
GrayMixerMagenta | +4 |
GrayMixerOrange | -43 |
GrayMixerPurple | +15 |
GrayMixerRed | -9 |
GrayMixerYellow | -20 |
GreenHue | 0 |
GreenSaturation | 0 |
HasCrop | True |
HasSettings | True |
HighlightRecovery | 22 |
HyperfocalDistance | 93.33 m |
ImageHeight | 2452 |
ImageNumber | 0 |
ImageSize | 1654x2452 |
ImageWidth | 1654 |
ISO | 100 |
Lens | EF100mm f/2.8L Macro IS USM |
LensID (1) | 254 |
LensID | Canon EF 100mm f/2.8L Macro IS USM |
LensInfo | 100mm f/? |
LensManualDistortionAmount | 0 |
LensProfileEnable | 0 |
LensProfileSetup | LensDefaults |
LightValue | 12.9 |
LuminanceNoiseReductionContrast | 0 |
LuminanceNoiseReductionDetail | 50 |
LuminanceSmoothing | 26 |
Make | Canon |
MaxApertureValue | 2.8 |
Megapixels | 4.1 |
MeteringMode | Multi-segment |
Model | Canon EOS 7D |
ModifyDate (1) | 2013:04:01 21:59:24+02:00 |
ModifyDate | 2013:04:01 21:59:24 |
PaintCorrectionActive | true |
PaintCorrectionAmount | 1.000000 |
PaintCorrectionBrightness | -0.049000 |
PaintCorrectionClarity | -0.060000 |
PaintCorrectionContrast | -0.073000 |
PaintCorrectionExposure (1) | -0.341000 |
PaintCorrectionExposure | -0.049000 |
PaintCorrectionHue | 0.000000 |
PaintCorrectionMaskCenterWeight | 0.030865 |
PaintCorrectionMaskFlow | 0.906000 |
PaintCorrectionMaskRadius | 0.041443 |
PaintCorrectionMaskValue | 0.476000 |
PaintCorrectionMaskWhat | Mask/Paint |
PaintCorrectionSaturation (1) | -0.060000 |
PaintCorrectionSaturation | 0.000000 |
PaintCorrectionSharpness | 0.000000 |
PaintCorrectionWhat | Correction |
ParametricDarks | 0 |
ParametricHighlights | 0 |
ParametricHighlightSplit | 75 |
ParametricLights | 0 |
ParametricMidtoneSplit | 50 |
ParametricShadows | 0 |
ParametricShadowSplit | 25 |
PerspectiveHorizontal | 0 |
PerspectiveRotate | 0.0 |
PerspectiveScale | 100 |
PerspectiveVertical | 0 |
PostCropVignetteAmount | 0 |
ProcessVersion | 5.7 |
ProfileDescription | sRGB IEC61966-2.1 |
RedHue | 0 |
RedSaturation | 0 |
ScaleFactor35efl | 1.6 |
SceneCaptureType | Standard |
SerialNumber | 1961000057 |
Shadows | 34 |
ShadowTint | 0 |
SharpenDetail | 18 |
SharpenEdgeMasking | 32 |
SharpenRadius | +0.9 |
Sharpness | 36 |
ShutterSpeed | 1/250 |
ShutterSpeedValue | 1/250 |
SplitToningBalance | 0 |
SplitToningHighlightHue | 0 |
SplitToningHighlightSaturation | 0 |
SplitToningShadowHue | 0 |
SplitToningShadowSaturation | 0 |
SubjectDistance | 1.56 m |
Tint | +7 |
ToneCurve | 0, 0, 32, 22, 64, 56, 128, 128, 192, 196, 255, 255 |
ToneCurveName | Medium Contrast |
Version | 6.1 |
VignetteAmount | 0 |
WhiteBalance (2) | Custom |
WhiteBalance | Manual |